BEGIN:VCALENDAR
VERSION:2.0
PRODID:icalendar-ruby
CALSCALE:GREGORIAN
METHOD:PUBLISH
BEGIN:VEVENT
DTSTAMP:20260426T033740Z
UID:10-728007@pathwayparis.org
DTSTART:20260927T154500Z
DTEND:20260927T170000Z
CLASS:PUBLIC
CREATED:20260425T195033
DESCRIPTION:Sunday Morning Worship\nNursery Available\nClasses for ages 3-5
  and 6-11
LAST-MODIFIED:20260425T195033
LOCATION:3805 S.E. Loop 286\, Paris\, TX 75460
SUMMARY:Sunday Morning Worship
URL;VALUE=URI:https://www.pathwayparis.org/events/sunday-morning-worship/20
 26-09-27
ATTACH;FILENAME=39559894-5E7A-4F1F-AEF7-9090BF734CD6.jpeg;FMTTYPE=image/jpe
 g:https://dq5pwpg1q8ru0.cloudfront.net/2023/01/31/17/33/23/e2c20606-4d7e-4
 bed-a74f-58097f86b24c/39559894-5E7A-4F1F-AEF7-9090BF734CD6.jpeg
END:VEVENT
END:VCALENDAR
